BEGIN:VCALENDAR
VERSION:2.0
PRODID:-//Visit Kerkonkoski - ECPv6.15.12.2//NONSGML v1.0//EN
CALSCALE:GREGORIAN
METHOD:PUBLISH
X-WR-CALNAME:Visit Kerkonkoski
X-ORIGINAL-URL:https://visitkerkonkoski.fi
X-WR-CALDESC:Tapahtumat Visit Kerkonkoski
REFRESH-INTERVAL;VALUE=DURATION:PT1H
X-Robots-Tag:noindex
X-PUBLISHED-TTL:PT1H
BEGIN:VTIMEZONE
TZID:Europe/Helsinki
BEGIN:DAYLIGHT
TZOFFSETFROM:+0200
TZOFFSETTO:+0300
TZNAME:EEST
DTSTART:20230326T010000
END:DAYLIGHT
BEGIN:STANDARD
TZOFFSETFROM:+0300
TZOFFSETTO:+0200
TZNAME:EET
DTSTART:20231029T010000
END:STANDARD
BEGIN:DAYLIGHT
TZOFFSETFROM:+0200
TZOFFSETTO:+0300
TZNAME:EEST
DTSTART:20240331T010000
END:DAYLIGHT
BEGIN:STANDARD
TZOFFSETFROM:+0300
TZOFFSETTO:+0200
TZNAME:EET
DTSTART:20241027T010000
END:STANDARD
BEGIN:DAYLIGHT
TZOFFSETFROM:+0200
TZOFFSETTO:+0300
TZNAME:EEST
DTSTART:20250330T010000
END:DAYLIGHT
BEGIN:STANDARD
TZOFFSETFROM:+0300
TZOFFSETTO:+0200
TZNAME:EET
DTSTART:20251026T010000
END:STANDARD
END:VTIMEZONE
BEGIN:VEVENT
DTSTART;TZID=Europe/Helsinki:20240825T150000
DTEND;TZID=Europe/Helsinki:20240825T190000
DTSTAMP:20260423T192842
CREATED:20240808T083948Z
LAST-MODIFIED:20240808T084839Z
UID:3996-1724598000-1724612400@visitkerkonkoski.fi
SUMMARY:Venetsialaisten talkoopäivä
DESCRIPTION: \nKerkonkosken Venetsialaisia vietetään 30.8.-1.9. Jotta saamme taas sykähdyttävän tapahtuman aikaiseksi\, kokoonnutaan isolla porukalla sunnuntaina 25.8. klo 15 alkaen suunnittelemaan ja valmistamaan valaistuksia ja valoteoksia.\n \n\nKokoonnutaan alkuun Seuralalla\, mutta valaistuksia ja valoteoksia tehdään mm. Seuralan\, kyläkaupan ja myllyn alueella.Mukaan voi ottaa valoja\, jatkojohtoja\, pattereita\, rekvisiittaa sekä roppakaupalla uusia ideoita! Nimikoithan tavarasi\, jotta saat ne tapahtuman jälkeen takaisin. \nOsallistua voi oman aikataulun mukaisesti.Mahdolliset muut talkoopäivät ilmoitetaan myöhemmin. \nVenetsialaisten jälkeen valot puretaan talkoilla. Tarkempi aikataulu ilmoitetaan myöhemmin. \nOtathan myös kaverisi mukaan!  \n 
URL:https://visitkerkonkoski.fi/ajankohtaista/venetsialaisten-talkoopaiva/
LOCATION:Kylätalo Seurala\, Kerkontie 15\, Kerkonkoski\, 77930
ORGANIZER;CN="Kerkonkosken Ketter%C3%A4":MAILTO:kerkonkoskenkettera@gmail.com
END:VEVENT
END:VCALENDAR