BEGIN:VCALENDAR
VERSION:2.0
PRODID:-//Visit Kerkonkoski - ECPv6.15.12.2//NONSGML v1.0//EN
CALSCALE:GREGORIAN
METHOD:PUBLISH
X-WR-CALNAME:Visit Kerkonkoski
X-ORIGINAL-URL:https://visitkerkonkoski.fi
X-WR-CALDESC:Tapahtumat Visit Kerkonkoski
REFRESH-INTERVAL;VALUE=DURATION:PT1H
X-Robots-Tag:noindex
X-PUBLISHED-TTL:PT1H
BEGIN:VTIMEZONE
TZID:Europe/Helsinki
BEGIN:DAYLIGHT
TZOFFSETFROM:+0200
TZOFFSETTO:+0300
TZNAME:EEST
DTSTART:20230326T010000
END:DAYLIGHT
BEGIN:STANDARD
TZOFFSETFROM:+0300
TZOFFSETTO:+0200
TZNAME:EET
DTSTART:20231029T010000
END:STANDARD
BEGIN:DAYLIGHT
TZOFFSETFROM:+0200
TZOFFSETTO:+0300
TZNAME:EEST
DTSTART:20240331T010000
END:DAYLIGHT
BEGIN:STANDARD
TZOFFSETFROM:+0300
TZOFFSETTO:+0200
TZNAME:EET
DTSTART:20241027T010000
END:STANDARD
BEGIN:DAYLIGHT
TZOFFSETFROM:+0200
TZOFFSETTO:+0300
TZNAME:EEST
DTSTART:20250330T010000
END:DAYLIGHT
BEGIN:STANDARD
TZOFFSETFROM:+0300
TZOFFSETTO:+0200
TZNAME:EET
DTSTART:20251026T010000
END:STANDARD
END:VTIMEZONE
BEGIN:VEVENT
DTSTART;TZID=Europe/Helsinki:20241117T140000
DTEND;TZID=Europe/Helsinki:20241117T160000
DTSTAMP:20260423T143814
CREATED:20241113T085757Z
LAST-MODIFIED:20241113T085758Z
UID:4151-1731852000-1731859200@visitkerkonkoski.fi
SUMMARY:Kässäkahvila
DESCRIPTION:Kerkonkosken Seurala täyttyy marraskuussa monipuolisesta taitavasta toiminnasta!\n\nTervetuloa kässäkahvilaan sunnuntaina 17.11. klo 14-16! \n\nTule viettämään mukavaa iltapäivää käsitöiden ja kohtaamisten äärellä. Kässäkahvila on kaikille avointa\, pääsy- tai taitovaatimuksia ei ole. Toiminta perustuu vertaisoppimiseen\, jossa yhdessä kokeillaan ja onnistutaan. \n\nOmat materiaalit mukaan. Kahvimaksu 3 euroa. \n\nLisätietoja:taitavakerkonkoski@gmail.com045 3269270 (PJ Essi)045 6740424 (Unna)
URL:https://visitkerkonkoski.fi/ajankohtaista/kassakahvila/
LOCATION:Kylätalo Seurala\, Kerkontie 15\, Kerkonkoski\, 77930
ORGANIZER;CN="Taitava Kerkonkoski":MAILTO:taitavakerkonkoski@gmail.com
END:VEVENT
END:VCALENDAR