BEGIN:VCALENDAR
VERSION:2.0
PRODID:-//Visit Kerkonkoski - ECPv6.15.12.2//NONSGML v1.0//EN
CALSCALE:GREGORIAN
METHOD:PUBLISH
X-WR-CALNAME:Visit Kerkonkoski
X-ORIGINAL-URL:https://visitkerkonkoski.fi
X-WR-CALDESC:Tapahtumat Visit Kerkonkoski
REFRESH-INTERVAL;VALUE=DURATION:PT1H
X-Robots-Tag:noindex
X-PUBLISHED-TTL:PT1H
BEGIN:VTIMEZONE
TZID:Europe/Helsinki
BEGIN:DAYLIGHT
TZOFFSETFROM:+0200
TZOFFSETTO:+0300
TZNAME:EEST
DTSTART:20230326T010000
END:DAYLIGHT
BEGIN:STANDARD
TZOFFSETFROM:+0300
TZOFFSETTO:+0200
TZNAME:EET
DTSTART:20231029T010000
END:STANDARD
BEGIN:DAYLIGHT
TZOFFSETFROM:+0200
TZOFFSETTO:+0300
TZNAME:EEST
DTSTART:20240331T010000
END:DAYLIGHT
BEGIN:STANDARD
TZOFFSETFROM:+0300
TZOFFSETTO:+0200
TZNAME:EET
DTSTART:20241027T010000
END:STANDARD
BEGIN:DAYLIGHT
TZOFFSETFROM:+0200
TZOFFSETTO:+0300
TZNAME:EEST
DTSTART:20250330T010000
END:DAYLIGHT
BEGIN:STANDARD
TZOFFSETFROM:+0300
TZOFFSETTO:+0200
TZNAME:EET
DTSTART:20251026T010000
END:STANDARD
END:VTIMEZONE
BEGIN:VEVENT
DTSTART;VALUE=DATE:20241119
DTEND;VALUE=DATE:20241127
DTSTAMP:20260423T120454
CREATED:20241113T091031Z
LAST-MODIFIED:20241113T091032Z
UID:4160-1731974400-1732665599@visitkerkonkoski.fi
SUMMARY:Taitavat taidepajat
DESCRIPTION:Kerkonkosken Seurala täyttyy marraskuussa monipuolisesta taitavasta toiminnasta! Nämä matalan kynnykset taidepajat sopivat ihan kaikille. Mitään ei tarvitse osata!\n \nTaitavat taidepajat:\n\n\n\n\n\n\n\n\n\n\n \nTi 19.11. klo 10 – 14 Virkistyspäivien joulukorttipaja\, maksuton\nTo 21.11. klo 15 – 19 jouluista askartelua\, Materiaali- ja tarvikemaksu 8€ (jäsenet 6€)\nTi 26.11. klo 15 – 19 jouluista askartelua\, Materiaali- ja tarvikemaksu 8€ (jäsenet 6€)\n \nTaitavat taidepajat vetäjänä taideohjaaja Unna Paananen. Paikalle voi tulla oman aikataulun mukaan. Mukaan voi ottaa myös omia materiaaleja ja sakset. \n \nLisätietoja: \ntaitavakerkonkoski@gmail.com \n045 3269270 (PJ Essi)045 6740424 (Unna)
URL:https://visitkerkonkoski.fi/ajankohtaista/taitavat-taidepajat/
LOCATION:Kylätalo Seurala\, Kerkontie 15\, Kerkonkoski\, 77930
ORGANIZER;CN="Taitava Kerkonkoski":MAILTO:taitavakerkonkoski@gmail.com
END:VEVENT
END:VCALENDAR