BEGIN:VCALENDAR
VERSION:2.0
PRODID:-//Visit Kerkonkoski - ECPv6.15.12.2//NONSGML v1.0//EN
CALSCALE:GREGORIAN
METHOD:PUBLISH
X-WR-CALNAME:Visit Kerkonkoski
X-ORIGINAL-URL:https://visitkerkonkoski.fi
X-WR-CALDESC:Tapahtumat Visit Kerkonkoski
REFRESH-INTERVAL;VALUE=DURATION:PT1H
X-Robots-Tag:noindex
X-PUBLISHED-TTL:PT1H
BEGIN:VTIMEZONE
TZID:Europe/Helsinki
BEGIN:DAYLIGHT
TZOFFSETFROM:+0200
TZOFFSETTO:+0300
TZNAME:EEST
DTSTART:20230326T010000
END:DAYLIGHT
BEGIN:STANDARD
TZOFFSETFROM:+0300
TZOFFSETTO:+0200
TZNAME:EET
DTSTART:20231029T010000
END:STANDARD
BEGIN:DAYLIGHT
TZOFFSETFROM:+0200
TZOFFSETTO:+0300
TZNAME:EEST
DTSTART:20240331T010000
END:DAYLIGHT
BEGIN:STANDARD
TZOFFSETFROM:+0300
TZOFFSETTO:+0200
TZNAME:EET
DTSTART:20241027T010000
END:STANDARD
BEGIN:DAYLIGHT
TZOFFSETFROM:+0200
TZOFFSETTO:+0300
TZNAME:EEST
DTSTART:20250330T010000
END:DAYLIGHT
BEGIN:STANDARD
TZOFFSETFROM:+0300
TZOFFSETTO:+0200
TZNAME:EET
DTSTART:20251026T010000
END:STANDARD
END:VTIMEZONE
BEGIN:VEVENT
DTSTART;TZID=Europe/Helsinki:20241206T110000
DTEND;TZID=Europe/Helsinki:20241215T150000
DTSTAMP:20260423T120423
CREATED:20241008T074908Z
LAST-MODIFIED:20241106T100027Z
UID:4072-1733482800-1734274800@visitkerkonkoski.fi
SUMMARY:Kerkonkosken Joulumyyjäiset
DESCRIPTION:Jo perinteeksi muodostuneet Kerkonkosken Joulumyyjäiset järjestetään Seuralassa 6.-15.12.2024 Tule tekemään jouluisia löytöjä vaikkapa pukinkonttiin! \n \nAvoinna6.-8.12. Pe-Su klo 11-1512.-13.12. To-Pe klo 10-1214.-15.12. La-Su klo 11-15 \n6.12. Kyläkauppa Kosken Puotipiian joulukauden avajaiset. Kahvi- ja glögitarjoilu.8.12. klo 11 alkaen Ketterä tarjoaa riisipuuron12.-13.12. Kerkonjoen koululaiset töissä myyjäisissä14.12. klo 11 Joulupukki vierailee ja klo 11-13 hevoskärryajelua. \nMuutokset mahdollisia. Tarkista ajantasainen tieto Ketterän facebook -sivuilta. \nPöytämaksu iso pöytä 31€ (loppuunvarattu)Pöytämaksu pieni pöytä 21€ (loppuunvarattu)Rekkipaikka omalle rekille 3€ (loppuunvarattu)Talkooalennus 8€\, kun tulet vähintään yhdeksi päiväksi talkoisiin myyjäisiin.Pöytävaraukset Ulla 044-5409684 (viestit tavoittavat parhaiten) \nPöytämaksuun kuuluu pöytään halutessasi valkoinen pöytäliina\, pöydän perusylläpito ja tuotteittesi myynti. Lue tarkemmat tiedot Kerkonkosken Ketterän facebook -sivulta. \nMyyjäisten toteuttamisen mahdollistaa Kerkonkosken Ketterä\, Kerkonjoen koululaiset ja talkoolaiset.
URL:https://visitkerkonkoski.fi/ajankohtaista/kerkonkosken-joulumyyjaiset-2/
LOCATION:Kylätalo Seurala\, Kerkontie 15\, Kerkonkoski\, 77930
ORGANIZER;CN="Kerkonkosken Ketter%C3%A4":MAILTO:kerkonkoskenkettera@gmail.com
END:VEVENT
BEGIN:VEVENT
DTSTART;TZID=Europe/Helsinki:20241210T120000
DTEND;TZID=Europe/Helsinki:20241210T160000
DTSTAMP:20260423T120423
CREATED:20241129T094736Z
LAST-MODIFIED:20241129T095259Z
UID:4172-1733832000-1733846400@visitkerkonkoski.fi
SUMMARY:Virkistyspäivä
DESCRIPTION:Virkistyspäivä Kerkonkoskella ti 10.12. klo 12-16 Seuralalla.Järjestäjänä Pohjois-Savon kylät yhteistyössä Kerkonkosken Ketterän kanssa. \nOhjelmassa pikkujoulut\, jossa yhdessä valmistetaan riisipuuroa ja joulutorttuja. Aki Virta laulattaa tuttuja lauluja. Tule nauttimaan yhdessä olosta ja musiikista vaikkei kokkauspuuhat tai laulaminen olisikaan sinun juttusi. \nTapahtuma on ilmainen. Tapahtuma on avoin kaikille. \nRahoittaja Pohjois-Savon hyvinvointialue. \n \n  \n  \n\n\n 
URL:https://visitkerkonkoski.fi/ajankohtaista/virkistyspaiva-5/
LOCATION:Kylätalo Seurala\, Kerkontie 15\, Kerkonkoski\, 77930
ORGANIZER;CN="Kerkonkosken Ketter%C3%A4":MAILTO:kerkonkoskenkettera@gmail.com
END:VEVENT
END:VCALENDAR