BEGIN:VCALENDAR
VERSION:2.0
PRODID:-//Visit Kerkonkoski - ECPv6.15.12.2//NONSGML v1.0//EN
CALSCALE:GREGORIAN
METHOD:PUBLISH
X-ORIGINAL-URL:https://visitkerkonkoski.fi
X-WR-CALDESC:Tapahtumat Visit Kerkonkoski
REFRESH-INTERVAL;VALUE=DURATION:PT1H
X-Robots-Tag:noindex
X-PUBLISHED-TTL:PT1H
BEGIN:VTIMEZONE
TZID:Europe/Helsinki
BEGIN:DAYLIGHT
TZOFFSETFROM:+0200
TZOFFSETTO:+0300
TZNAME:EEST
DTSTART:20230326T010000
END:DAYLIGHT
BEGIN:STANDARD
TZOFFSETFROM:+0300
TZOFFSETTO:+0200
TZNAME:EET
DTSTART:20231029T010000
END:STANDARD
BEGIN:DAYLIGHT
TZOFFSETFROM:+0200
TZOFFSETTO:+0300
TZNAME:EEST
DTSTART:20240331T010000
END:DAYLIGHT
BEGIN:STANDARD
TZOFFSETFROM:+0300
TZOFFSETTO:+0200
TZNAME:EET
DTSTART:20241027T010000
END:STANDARD
BEGIN:DAYLIGHT
TZOFFSETFROM:+0200
TZOFFSETTO:+0300
TZNAME:EEST
DTSTART:20250330T010000
END:DAYLIGHT
BEGIN:STANDARD
TZOFFSETFROM:+0300
TZOFFSETTO:+0200
TZNAME:EET
DTSTART:20251026T010000
END:STANDARD
END:VTIMEZONE
BEGIN:VEVENT
DTSTART;TZID=Europe/Helsinki:20240603T110000
DTEND;TZID=Europe/Helsinki:20240811T200000
DTSTAMP:20260423T193243
CREATED:20240527T111637Z
LAST-MODIFIED:20240724T114322Z
UID:3720-1717412400-1723406400@visitkerkonkoski.fi
SUMMARY:Wanha Mylly avoinna
DESCRIPTION: \nWanha Mylly avoinna koko kesän\n \n\nMyllyyn pääset tutustumaan 3.6.-11.8.2024 klo 11-20.Poikkeuksena alla mainitut aikataulut. Huomioithan\, että kesän aikana saattaa tulla muita muutoksia aikatauluihin\, jotka ilmoitetaan tällä sivulla. \n 
URL:https://visitkerkonkoski.fi/ajankohtaista/wanha-mylly-avoinna-kesan-2024/
LOCATION:Wanha Mylly\, Kerkontie 1\, Kerkonjoensuu\, -- Select --\, 77930\, Suomi
ORGANIZER;CN="Kerkonkosken Ketter%C3%A4":MAILTO:kerkonkoskenkettera@gmail.com
END:VEVENT
BEGIN:VEVENT
DTSTART;TZID=Europe/Helsinki:20240626T120000
DTEND;TZID=Europe/Helsinki:20240707T180000
DTSTAMP:20260423T193243
CREATED:20240404T104608Z
LAST-MODIFIED:20240628T180830Z
UID:3542-1719403200-1720375200@visitkerkonkoski.fi
SUMMARY:Kerkonkosken kesäkirppis
DESCRIPTION:Suosittu Kerkonkosken Kesäkirppis palaa jälleen.  \n\nKesäkirppis 26.6.-7.7.2024 Seuralassa.\n\n\nAvoinna\n\n\n\nke-su klo 12.00-18.00 \nKirpparilla kahvio\, jossa päivittäin tuoreita leipuri-kondiittori-opiskelijan valmistamia leivonnaisia. \nKirpputori toimii pöytävarausperiaatteella. Pöytävarauksen voi tehdä yhdeksi tai kahdeksi viikoksi. \nPeräkonttikirppikset Seuralan kentällä su 30.6. ja 7.7. klo 12-15. Ei ennakkoilmoittautumista. Paikkamaksu 5€. \n\n\n  \n\n\nKERKONKOSKEN KESÄKIRPPIKSEN SÄÄNNÖT 2024 \n\n\n\nKerkonkosken Ketterä ry\n\n\n\n\n\n\n\n\n\nHinnat:\n\n\n\nPöytäpaikka \n\nIso pöytä 28€/1 vko\, 39€/2 vkoa.\nPieni pöytä 24€/1vko\, 34e/2vko.\nEteisessä minipöytä + naulakko 20€/1vko\, 30€/2vko.\n\nLisäksi pöydän varanneen on mahdollista ostaa rekkipaikka 3€. \n\n\nPöytävuokra maksetaan etukäteen Ketterän tilille. Varausmaksu palautetaan\, jos varaus perutaan vähintään viikkoa aiemmin. Varaus peruuntuu\, jos pöytävuokraa ei ole maksanut viikkoa ennen pöytävarauksen alkua Ketterälle (19.6 tai 26.6.). Myöhemmin perutuista pöytämaksuista perimme 50% pöytävuokran hinnasta. \n\n\n\nPöytäkoot\nIso pöytä 1\,8 x 0\,8 m\nPieni pöytä 0\,5 x 2\,4 m tai 0\,4 x 2\,6cm (pienien pöytien kokoa ei voi valita etukäteen).\nEteisessä sijaitseva minipöytä on joko 0\,5 x 1\,2m tai 0\,4 x 1\,3m ja sen yläpuolella on vaatenaulakko (koukut\, tanko ja hattuhylly).\n\nRekkipaikan ostamalla voit tuoda mukanasi yhden vaaterekin. Rekit sijaitsevat pääasiassa lavalla. \n\n\n\n\nPöytävuokra sisältää pöydän perusylläpidon. Ruuhka-aikoina emme voi taata pöydän olevan koko ajan siistinä\, mutta pöytä siivotaan vähintään kerran päivässä. Halutessasi pöydän olevan siistimpi\, huolehdit siitä itse. \n\n\n\nPöytävaraukset:\n\n\n\nUlla Ruotsalainen p. 044-5409684 (tekstiviestillä/whatsappilla tavoittaa parhaiten) \n\n\n\nPöytävuokran maksaminen:\n\nPöytävuokra tulee olla maksettuna viikkoa ennen varauksen alkua tai varaus peruuntuu. Pöytämaksun saa takaisin\, jos peruu varauksensa viimeistään viikkoa ennen varauksen alkua. Myöhemmin perutuista pöytämaksuista perimme 50% pöytämaksun hinnasta. \n\n\n\n\nViitenumero: 20213Tilinumero: FI41 5389 1050 0022 27Saaja: Kerkonkosken Ketterä \n\n\n\n\nTavaroiden hinnoittelu: \n\n\n\nPöydän vuokraaja hinnoittelee itse omat tavaransa. Hintalaput voi tehdä esim. maalarinteipillä\, joka pysyy hyvin kiinni\, mutta voidaan myyntivaiheessa helposti irrottaa tuotteesta. Hintalappuun on merkittävä selkeästi hinta sekä oma pöytänumero\, joka ympyröidään.\n\n\nIlman hintalappuja olevista tavaroista laitetaan kuvia myyjien yhteiseen WhatsApp-ryhmään. Puuttuvat hintatiedot voi ilmoittaa WhatsAppin kautta. Emme myy tuotteita\, joista puuttuu hinta.\n\n\nKetterä ei ole korvausvelvollinen mahdollisista pöydän hävinneistä ja rikkoutuneista tavaroista.\n\n\n\nOmiin hengareihin suositellaan merkkaamaan esim. pöytänumero. \n\n\n\nTavaran tuonti:\n\n\n\nTavaroita voi tuoda kirpputorille myyntiaikaa edeltävänä tiistaina klo 17.00-18.00 tai keskiviikkona klo 11.00 alkaen. Tavaroita voi tuoda lisää myyntiin koko myyntiajan. Tiistaina 2.7. tuontiaika toteutuu vain\, jos toiselle viikolle tulevat uudet myyjät tuovat tällöin tavaroita. Voit tiedustella asiaa myyjien whatsapp -ryhmästä tai Ullalta. \n\n\n\nMyyntipöydän tyhjennys:\n\n\n\nMyyntiaika päättyy sunnuntaina klo 18.00. Myyntipöytä tulee olla tyhjennetty samana päivänä klo 19.00 mennessä. Ketterä ei ota vastaan lahjoituksena kirpputorilla myymättä jäänyttä tavaraa. \n\n\n\nMyyntitilitys:\n\n\n\nMyyntituottojen tilitys tehdään myyntiajan päätyttyä\, kun pöytä on tyhjennetty. Myyntituotto maksetaan tilille. Voit myös etukäteen sopia myyntituoton maksun käteisellä. \n\n\n\n\n\n\n\n\n\nTalkootyöt:\n\n\nJos olet kiinnostunut tulemaan kirpputorille talkoilla töihin\, ole yhteydessä Ullaan. Tehdyistä talkootunneista voi saada hyvitystä pöytämaksusta.
URL:https://visitkerkonkoski.fi/ajankohtaista/kerkonkosken-kesakirppis-2/
LOCATION:Kylätalo Seurala\, Kerkontie 15\, Kerkonkoski\, 77930
ORGANIZER;CN="Kerkonkosken Ketter%C3%A4":MAILTO:kerkonkoskenkettera@gmail.com
END:VEVENT
BEGIN:VEVENT
DTSTART;TZID=Europe/Helsinki:20240703T120000
DTEND;TZID=Europe/Helsinki:20240714T200000
DTSTAMP:20260423T193243
CREATED:20240427T075936Z
LAST-MODIFIED:20240612T093447Z
UID:3582-1720008000-1720987200@visitkerkonkoski.fi
SUMMARY:Pakohuonepeli: Menneisyyden vankina
DESCRIPTION:Pakohuonepeli: Menneisyyden vankina\nPakohuonepeli aukeaa Wanhalle Myllylle (Kerkontie 1) heinäkuussa kahdeksi ensimmäiseksi viikoksi. Varauskalenteri on nyt avoinna osoitteessa:kerkonkoskenkettera.johku.com \nOlette joutuneet menneisyyteen\, ennen ajanlaskun alkua\, jolloin Kerkonkosken kylä ei ole vielä edes syntynyt. Tehtäviä ratkaisemalla kuljette läpi Kerkonkosken kylän synnyn ja historian vaiheita kohti nykypäivää. Ehdittekö löytää tienne ulos vai loppuuko aika kesken ja jäätte Kerkonkosken historiaan menneisyyden vangiksi? \n\n\n\n\n\nPelaaminen: Pakeneminen tapahtuu arvoituksia ratkomalla ja tehtäviä suorittamalla. Pelissä on hämäräinen tunnelma eikä se sovi herkimmille. Pakohuonepeli perustuu Kerkonkosken historiaan. Pelin pelaaminen ei kuitenkaan vaadi etukäteistietoa vaan kaikki tarvittava tieto pelin läpäisyyn löytyy pelialueelta. Puhelimen käyttö pelin aikana on kiellettyä. \nHinta: 22€/ryhmäPeliaika: 45minVaikeustaso: Keskivaikea+ \n\n\n\n\nKulku pakohuonepeliin on Wanhan Myllyn (Kerkontie 1\, Kerkonkoski) yläkerran kautta portaita pitkin. Odota yläkerrassa pelinohjaajaa. Pelinohjaaja antaa ennen aloittamista ryhmällenne ohjeet ja vinkit pakenemista varten. Pelipaikalle on hyvä saapua viimeistään 5min ennen pelin alkamista\, näin peli pääsee alkamaan ajallaan. Huom! Pelin ollessa käynnissä emme suosittele\, että oleskelet myllyn lähettyvillä\, että et kuule muilta pelaajilta vinkkejä sillä huone ei ole äänieristetty. Et tarvitse peliin mukaan mitään. Puhelimen käyttö pelissä on kiellettyä. \n\n\n\n\nAlle 14-vuotiaat lapset vain täysi-ikäisen seurassa. Peli sopii perheen kanssa pelattavana myös lapsille. Peliä suositellaan pelattavaksi 2-5hlö ryhmissä.  \n\n\nPakohuonepelin suunnittelun ja toteutuksen rahoittaa OLVI-säätiö. Pakohuonepelin järjestäjä Kerkonkosken Ketterä. \n 
URL:https://visitkerkonkoski.fi/ajankohtaista/pakohuonepeli-menneisyyden-vankina/
LOCATION:Wanha Mylly\, Kerkontie 1\, Kerkonjoensuu\, -- Select --\, 77930\, Suomi
ORGANIZER;CN="Kerkonkosken Ketter%C3%A4":MAILTO:kerkonkoskenkettera@gmail.com
END:VEVENT
BEGIN:VEVENT
DTSTART;TZID=Europe/Helsinki:20240704T173000
DTEND;TZID=Europe/Helsinki:20240704T190000
DTSTAMP:20260423T193243
CREATED:20240526T065029Z
LAST-MODIFIED:20240526T065239Z
UID:3672-1720114200-1720119600@visitkerkonkoski.fi
SUMMARY:Viikkokisat
DESCRIPTION:Lasten viikkokisat heinäkuussa torstai-iltaisin klo 17.30 Seuralan kentällä. Ilmoittautumiseen suositellaan tulevan n. 10min ennen alkua.Järjestäjä Kerkonkosken Ketterä.\nVanhempien toivotaan olevan tarvittaessa apuna mm. ajanotossa ja mittaamisessa.
URL:https://visitkerkonkoski.fi/ajankohtaista/viikkokisat/
LOCATION:Seuralan kenttä\, Kerkontie 15\, Kerkonjoensuu\, -- Select --\, 77930\, Suomi
ORGANIZER;CN="Kerkonkosken Ketter%C3%A4":MAILTO:kerkonkoskenkettera@gmail.com
END:VEVENT
BEGIN:VEVENT
DTSTART;TZID=Europe/Helsinki:20240707T120000
DTEND;TZID=Europe/Helsinki:20240707T150000
DTSTAMP:20260423T193243
CREATED:20240513T103345Z
LAST-MODIFIED:20240513T103519Z
UID:3621-1720353600-1720364400@visitkerkonkoski.fi
SUMMARY:Peräkonttikirppis
DESCRIPTION:Toisen roska on toisen aarre. Tule siis myymään ylimääräiset tavarasi Ketterän järjestämällä peräkonttikirppiksellä kahtena kesäsunnuntaina.\n  \nPeräkonttikirppikset su 30.6. ja 7.7. klo 12-15Seuralan kentällä.Paikkamaksu 5€.Ei ennakkoilmoittautumista. \nSamaan aikaan Seuralassa kesäkirppis ja Ketterän kahvio. Kahviossa leipuri-kondiittoriopiskelijan valmistamia leivonnaisia. \nKesäkirppis avoinna 26.6.-7.7.2024Ma-ti suljettuKe-su klo 12-18
URL:https://visitkerkonkoski.fi/ajankohtaista/perakonttikirppis77/
LOCATION:Seuralan kenttä\, Kerkontie 15\, Kerkonjoensuu\, -- Select --\, 77930\, Suomi
ORGANIZER;CN="Kerkonkosken Ketter%C3%A4":MAILTO:kerkonkoskenkettera@gmail.com
END:VEVENT
BEGIN:VEVENT
DTSTART;TZID=Europe/Helsinki:20240711T173000
DTEND;TZID=Europe/Helsinki:20240711T190000
DTSTAMP:20260423T193243
CREATED:20240526T065415Z
LAST-MODIFIED:20240526T065541Z
UID:3677-1720719000-1720724400@visitkerkonkoski.fi
SUMMARY:Viikkokisat
DESCRIPTION:Lasten viikkokisat heinäkuussa torstai-iltaisin klo 17.30 Seuralan kentällä. Ilmoittautumiseen suositellaan tulevan n. 10min ennen alkua.Järjestäjä Kerkonkosken Ketterä.\nVanhempien toivotaan olevan tarvittaessa apuna mm. ajanotossa ja mittaamisessa.
URL:https://visitkerkonkoski.fi/ajankohtaista/viikkokisat-2/
LOCATION:Seuralan kenttä\, Kerkontie 15\, Kerkonjoensuu\, -- Select --\, 77930\, Suomi
ORGANIZER;CN="Kerkonkosken Ketter%C3%A4":MAILTO:kerkonkoskenkettera@gmail.com
END:VEVENT
BEGIN:VEVENT
DTSTART;TZID=Europe/Helsinki:20240718T173000
DTEND;TZID=Europe/Helsinki:20240718T190000
DTSTAMP:20260423T193243
CREATED:20240526T065713Z
LAST-MODIFIED:20240526T070028Z
UID:3681-1721323800-1721329200@visitkerkonkoski.fi
SUMMARY:Viikkokisat
DESCRIPTION:Lasten viikkokisat heinäkuussa torstai-iltaisin klo 17.30 Seuralan kentällä. Ilmoittautumiseen suositellaan tulevan n. 10min ennen alkua.Järjestäjä Kerkonkosken Ketterä.\nVanhempien toivotaan olevan tarvittaessa apuna mm. ajanotossa ja mittaamisessa.
URL:https://visitkerkonkoski.fi/ajankohtaista/viikkokisat-3/
LOCATION:Seuralan kenttä\, Kerkontie 15\, Kerkonjoensuu\, -- Select --\, 77930\, Suomi
ORGANIZER;CN="Kerkonkosken Ketter%C3%A4":MAILTO:kerkonkoskenkettera@gmail.com
END:VEVENT
BEGIN:VEVENT
DTSTART;TZID=Europe/Helsinki:20240719T080000
DTEND;TZID=Europe/Helsinki:20240721T190000
DTSTAMP:20260423T193243
CREATED:20240524T064241Z
LAST-MODIFIED:20240719T082533Z
UID:3649-1721376000-1721588400@visitkerkonkoski.fi
SUMMARY:Kerkonkosken Kanavajuhla
DESCRIPTION:Kerkonkosken kanavan rakentamisen alkamisesta on kulunut 100 vuotta. Kanava valmistui vuonna 1927. Juhlimme Kerkonkosken kanavaa heinäkuussa 19.-21.7. monipuolisesti.  \n\nAikataulu: \nPe 19.7.Klo 13- 19 Ruusun Galleria avoinna\, Kiesimäntie 100Klo 17-19 Hinaaja Myllykoski I avoinna\, Kerkonkosken vierasvenelaituriKlo 19 Kanava ja Satama -runoilta. Kirjavan Sataman 30-vuotisjuhla. Esiintymässä Rauni Paalanen\, Aki Virta\, Anneli Hytönen ja Jesi Blomgren. Haastatteluissa Pirkko Toiviainen\, Kirjava Satama 30v. sekä Uolevi Siikavirta\, kanavamuisteluita. Seuralassa\, Kerkontie 15. Vapaa pääsy. Tapahtumassa Sisä-Savon Sävelten kahvio. \nLa 20.7. Klo 12-16 Ruusun Galleria avoinna\, Kiesimäntie 100Klo 12-15 Hinaaja Myllykoski I avoinna\, Kerkonkosken vierasvenelaituriKlo 15 Uittonäytös\, Kerkonkosken kanavaKlo 16 Yhteislaulutilaisuus: Pelimannit Nelle Karjalainen ja Aki Hytönen laulattavat yhteislauluja\, Wanha Mylly\, Kerkontie 1.Klo 17 Rantakala\, 5€\, Seurala\, Kerkontie 15Klo 18-19.30 Iltaristeily Kiesimällä M/S Linnea. Lähtö Kerkonkosken kanavalta. 15€.Klo 19-22 Tanssit ja kahvio Seuralassa\, Kerkontie 15. Esiintymässä Sepeteus. Liput 5€. Järjestäjä Kerkonkosken Ketterä \nSu 21.7. Klo 10-13 Hinaaja Myllykoski I avoinna\, Kerkonkosken vierasvenelaituriKlo 12-16 Ruusun Galleria avoinna\, Kiesimäntie 100Klo 11 Hartaushetki. Puhujana Raimo Jalkanen. Musiikki Konneveden reserviläiskuoro. Kanavalla\, MeijerintieKlo 11.15 Muistomerkin paljastus. Puhujana mm. Rautalammin kunnan hallituksen pj. Matti Kärkkäinen. Musiikki Konneveden reserviläiskuoro. Kanavalla\, MeijerintieKlo 12 Juhlakahvit Seuralan pihassa. Kahvit 200 ensimmäiselle. Seurala\, Kerkontie 15Klo 13 Juhlaseminaari. Puhujina Lasse Vihonen\, Jorma Laiho\, Kauko Röntynen\, Seppo Puttonen sekä Jouni Ortju. Seurala\, Kerkontie 15 \nPidätämme oikeudet muutoksiin.Järjestäjänä: mm. Kerkonkosken Ketterä\, Rautalammin kunta\, järjestelytoimikunta ja Sisä-Savon Sävelet. \nLämpimästi tervetuloa!
URL:https://visitkerkonkoski.fi/ajankohtaista/kerkonkosken-kanavajuhla/
LOCATION:Kerkonkosken kylä\, Kerkonkoski\, 77930\, Suomi
ORGANIZER;CN="Kerkonkosken Ketter%C3%A4":MAILTO:kerkonkoskenkettera@gmail.com
END:VEVENT
BEGIN:VEVENT
DTSTART;TZID=Europe/Helsinki:20240725T173000
DTEND;TZID=Europe/Helsinki:20240725T190000
DTSTAMP:20260423T193243
CREATED:20240526T065952Z
LAST-MODIFIED:20240719T082058Z
UID:3685-1721928600-1721934000@visitkerkonkoski.fi
SUMMARY:Viikkokisat ja Kepparikisat
DESCRIPTION:Lasten viikkokisat heinäkuussa torstai-iltaisin klo 17.30 Seuralan kentällä. Ilmoittautumiseen suositellaan tulevan n. 10min ennen alkua.Lajeina pituushyppy\, 40m juoksu ja pallonheitto.\n  \nHeti viikkokisojen jälkeen kisaillaan myös kepparikisat. Oma keppari tarvitaan. \nJärjestäjä Kerkonkosken Ketterä. \nVanhempien toivotaan olevan tarvittaessa apuna mm. ajanotossa ja mittaamisessa.
URL:https://visitkerkonkoski.fi/ajankohtaista/viikkokisat-4/
LOCATION:Seuralan kenttä\, Kerkontie 15\, Kerkonjoensuu\, -- Select --\, 77930\, Suomi
ORGANIZER;CN="Kerkonkosken Ketter%C3%A4":MAILTO:kerkonkoskenkettera@gmail.com
END:VEVENT
BEGIN:VEVENT
DTSTART;TZID=Europe/Helsinki:20240728T130000
DTEND;TZID=Europe/Helsinki:20240728T200000
DTSTAMP:20260423T193243
CREATED:20240704T111509Z
LAST-MODIFIED:20240704T112221Z
UID:3824-1722171600-1722196800@visitkerkonkoski.fi
SUMMARY:Teatterimatka: Karavaanari 2
DESCRIPTION:Kerkonkosken Ketterä ja Kiesimän kyläyhdistys järjestää yhteisen teatterimatkan Rauhalahti teatteriin sunnuntaina 28.7.    \nNäytös:  Karavaanari 2 klo 15Lähtö: Kiesimältä klo 13\, Kerkonkoskelta Seuralan pihasta n. klo 13.30Liput: 35€Kuljetus: Ketterä tarjoaa kuljetuksen kyläläisille. Muille kuljetuksen hinta 20€/hlö \nIlmoittautuminen:Viimeistään 14.7. Seija Karhu p. 040 7341346
URL:https://visitkerkonkoski.fi/ajankohtaista/teatterimatka-karavaanari-2/
LOCATION:Kylätalo Seurala\, Kerkontie 15\, Kerkonkoski\, 77930
ORGANIZER;CN="Kerkonkosken Ketter%C3%A4":MAILTO:kerkonkoskenkettera@gmail.com
END:VEVENT
END:VCALENDAR