BEGIN:VCALENDAR
VERSION:2.0
PRODID:-//Visit Kerkonkoski - ECPv6.15.12.2//NONSGML v1.0//EN
CALSCALE:GREGORIAN
METHOD:PUBLISH
X-WR-CALNAME:Visit Kerkonkoski
X-ORIGINAL-URL:https://visitkerkonkoski.fi
X-WR-CALDESC:Tapahtumat Visit Kerkonkoski
REFRESH-INTERVAL;VALUE=DURATION:PT1H
X-Robots-Tag:noindex
X-PUBLISHED-TTL:PT1H
BEGIN:VTIMEZONE
TZID:Europe/Helsinki
BEGIN:DAYLIGHT
TZOFFSETFROM:+0200
TZOFFSETTO:+0300
TZNAME:EEST
DTSTART:20230326T010000
END:DAYLIGHT
BEGIN:STANDARD
TZOFFSETFROM:+0300
TZOFFSETTO:+0200
TZNAME:EET
DTSTART:20231029T010000
END:STANDARD
BEGIN:DAYLIGHT
TZOFFSETFROM:+0200
TZOFFSETTO:+0300
TZNAME:EEST
DTSTART:20240331T010000
END:DAYLIGHT
BEGIN:STANDARD
TZOFFSETFROM:+0300
TZOFFSETTO:+0200
TZNAME:EET
DTSTART:20241027T010000
END:STANDARD
BEGIN:DAYLIGHT
TZOFFSETFROM:+0200
TZOFFSETTO:+0300
TZNAME:EEST
DTSTART:20250330T010000
END:DAYLIGHT
BEGIN:STANDARD
TZOFFSETFROM:+0300
TZOFFSETTO:+0200
TZNAME:EET
DTSTART:20251026T010000
END:STANDARD
END:VTIMEZONE
BEGIN:VEVENT
DTSTART;TZID=Europe/Helsinki:20241107T110000
DTEND;TZID=Europe/Helsinki:20241107T114500
DTSTAMP:20260423T132107
CREATED:20240827T130129Z
LAST-MODIFIED:20240827T130253Z
UID:4047-1730977200-1730979900@visitkerkonkoski.fi
SUMMARY:Ikääntyneiden kevyt päiväjumppa
DESCRIPTION:Kaikille senioreille sopivaa\, rauhallista liikuntaa.\nParittomien viikkojen torstaina alkaen 29.8. klo 11.00-11.45 Kerkonjoen koulun liikuntasalissa. Jumppa on maksuton\, ei ennakkoilmoittautumista.Lisätietoja inna.kaariainen@rautalampi.fi \nJärjestäjä Rautalammin kunta. Ohjaaja Inna Kääriäinen ja Janne Mensonen.
URL:https://visitkerkonkoski.fi/ajankohtaista/ikaantyneiden-kevyt-paivajumppa-6/
LOCATION:Kerkonjoen koulu\, Vesannontie 1250\, Kerkonkoski
END:VEVENT
BEGIN:VEVENT
DTSTART;TZID=Europe/Helsinki:20241117T140000
DTEND;TZID=Europe/Helsinki:20241117T160000
DTSTAMP:20260423T132107
CREATED:20241113T085757Z
LAST-MODIFIED:20241113T085758Z
UID:4151-1731852000-1731859200@visitkerkonkoski.fi
SUMMARY:Kässäkahvila
DESCRIPTION:Kerkonkosken Seurala täyttyy marraskuussa monipuolisesta taitavasta toiminnasta!\n\nTervetuloa kässäkahvilaan sunnuntaina 17.11. klo 14-16! \n\nTule viettämään mukavaa iltapäivää käsitöiden ja kohtaamisten äärellä. Kässäkahvila on kaikille avointa\, pääsy- tai taitovaatimuksia ei ole. Toiminta perustuu vertaisoppimiseen\, jossa yhdessä kokeillaan ja onnistutaan. \n\nOmat materiaalit mukaan. Kahvimaksu 3 euroa. \n\nLisätietoja:taitavakerkonkoski@gmail.com045 3269270 (PJ Essi)045 6740424 (Unna)
URL:https://visitkerkonkoski.fi/ajankohtaista/kassakahvila/
LOCATION:Kylätalo Seurala\, Kerkontie 15\, Kerkonkoski\, 77930
ORGANIZER;CN="Taitava Kerkonkoski":MAILTO:taitavakerkonkoski@gmail.com
END:VEVENT
BEGIN:VEVENT
DTSTART;VALUE=DATE:20241119
DTEND;VALUE=DATE:20241127
DTSTAMP:20260423T132107
CREATED:20241113T091031Z
LAST-MODIFIED:20241113T091032Z
UID:4160-1731974400-1732665599@visitkerkonkoski.fi
SUMMARY:Taitavat taidepajat
DESCRIPTION:Kerkonkosken Seurala täyttyy marraskuussa monipuolisesta taitavasta toiminnasta! Nämä matalan kynnykset taidepajat sopivat ihan kaikille. Mitään ei tarvitse osata!\n \nTaitavat taidepajat:\n\n\n\n\n\n\n\n\n\n\n \nTi 19.11. klo 10 – 14 Virkistyspäivien joulukorttipaja\, maksuton\nTo 21.11. klo 15 – 19 jouluista askartelua\, Materiaali- ja tarvikemaksu 8€ (jäsenet 6€)\nTi 26.11. klo 15 – 19 jouluista askartelua\, Materiaali- ja tarvikemaksu 8€ (jäsenet 6€)\n \nTaitavat taidepajat vetäjänä taideohjaaja Unna Paananen. Paikalle voi tulla oman aikataulun mukaan. Mukaan voi ottaa myös omia materiaaleja ja sakset. \n \nLisätietoja: \ntaitavakerkonkoski@gmail.com \n045 3269270 (PJ Essi)045 6740424 (Unna)
URL:https://visitkerkonkoski.fi/ajankohtaista/taitavat-taidepajat/
LOCATION:Kylätalo Seurala\, Kerkontie 15\, Kerkonkoski\, 77930
ORGANIZER;CN="Taitava Kerkonkoski":MAILTO:taitavakerkonkoski@gmail.com
END:VEVENT
BEGIN:VEVENT
DTSTART;TZID=Europe/Helsinki:20241119T100000
DTEND;TZID=Europe/Helsinki:20241119T140000
DTSTAMP:20260423T132107
CREATED:20241009T071121Z
LAST-MODIFIED:20241009T071341Z
UID:4098-1732010400-1732024800@visitkerkonkoski.fi
SUMMARY:Virkistyspäivä
DESCRIPTION:Virkistyspäivä Kerkonkoskella ti 19.11. klo 10-14 Seuralalla.Järjestäjänä Pohjois-Savon kylät yhteistyössä Kerkonkosken Ketterän kanssa. \nOhjelmassa Taitava Kerkonkoski ry:n Unna Paanasen ohjaama joulukorttityöpaja.Päivän aikana valmistetaan myös yhdessä keittolounas ja kahvit. \nTapahtuma on ilmainen. Tapahtuma on avoin kaikille. \nRahoittaja Pohjois-Savon hyvinvointialue. \n \n  \n  \n\n\n 
URL:https://visitkerkonkoski.fi/ajankohtaista/virkistyspaiva-4/
LOCATION:Kylätalo Seurala\, Kerkontie 15\, Kerkonkoski\, 77930
ORGANIZER;CN="Kerkonkosken Ketter%C3%A4":MAILTO:kerkonkoskenkettera@gmail.com
END:VEVENT
BEGIN:VEVENT
DTSTART;TZID=Europe/Helsinki:20241121T110000
DTEND;TZID=Europe/Helsinki:20241121T114500
DTSTAMP:20260423T132107
CREATED:20240827T130411Z
LAST-MODIFIED:20240827T130519Z
UID:4051-1732186800-1732189500@visitkerkonkoski.fi
SUMMARY:Ikääntyneiden kevyt päiväjumppa
DESCRIPTION:Kaikille senioreille sopivaa\, rauhallista liikuntaa.\nParittomien viikkojen torstaina alkaen 29.8. klo 11.00-11.45 Kerkonjoen koulun liikuntasalissa. Jumppa on maksuton\, ei ennakkoilmoittautumista.Lisätietoja inna.kaariainen@rautalampi.fi \nJärjestäjä Rautalammin kunta. Ohjaaja Inna Kääriäinen ja Janne Mensonen.
URL:https://visitkerkonkoski.fi/ajankohtaista/ikaantyneiden-kevyt-paivajumppa-7/
LOCATION:Kerkonjoen koulu\, Vesannontie 1250\, Kerkonkoski
END:VEVENT
BEGIN:VEVENT
DTSTART;TZID=Europe/Helsinki:20241129T180000
DTEND;TZID=Europe/Helsinki:20241129T200000
DTSTAMP:20260423T132107
CREATED:20241023T123816Z
LAST-MODIFIED:20241024T111412Z
UID:4118-1732903200-1732910400@visitkerkonkoski.fi
SUMMARY:Koko kylän pikkujoulut
DESCRIPTION:Tervetuloa koko kylän pikkujouluihin Kylätalo Seuralaan perjantaina 29.11. klo 18-20 (22)!  \nTule nauttimaan hyvästä seurasta ja joulun tunnelmasta. 70 ensimmäiselle tarjoamme glögin ja joulutortun – saavu siis ajoissa! Tarjolla myös muuta pientä purtavaa. Luvassa rentoa yhdessäoloa ja lämmintä joulumieltä. Pidetään ovet auki kymmeneen saakka mikäli juttua riittää. Nähdään Seuralassa! 🎅🎄 \nTapahtuman järjestää Matkaillen Kerkonkoskelle- hanke
URL:https://visitkerkonkoski.fi/ajankohtaista/koko-kylan-pikkujoulut/
LOCATION:Kylätalo Seurala\, Kerkontie 15\, Kerkonkoski\, 77930
ORGANIZER;CN="Kerkonkosken Ketter%C3%A4":MAILTO:kerkonkoskenkettera@gmail.com
END:VEVENT
END:VCALENDAR