BEGIN:VCALENDAR
VERSION:2.0
PRODID:-//Visit Kerkonkoski - ECPv6.15.12.2//NONSGML v1.0//EN
CALSCALE:GREGORIAN
METHOD:PUBLISH
X-WR-CALNAME:Visit Kerkonkoski
X-ORIGINAL-URL:https://visitkerkonkoski.fi
X-WR-CALDESC:Tapahtumat Visit Kerkonkoski
REFRESH-INTERVAL;VALUE=DURATION:PT1H
X-Robots-Tag:noindex
X-PUBLISHED-TTL:PT1H
BEGIN:VTIMEZONE
TZID:UTC
BEGIN:STANDARD
TZOFFSETFROM:+0000
TZOFFSETTO:+0000
TZNAME:UTC
DTSTART:20210101T000000
END:STANDARD
END:VTIMEZONE
BEGIN:VTIMEZONE
TZID:Europe/Helsinki
BEGIN:DAYLIGHT
TZOFFSETFROM:+0200
TZOFFSETTO:+0300
TZNAME:EEST
DTSTART:20210328T010000
END:DAYLIGHT
BEGIN:STANDARD
TZOFFSETFROM:+0300
TZOFFSETTO:+0200
TZNAME:EET
DTSTART:20211031T010000
END:STANDARD
BEGIN:DAYLIGHT
TZOFFSETFROM:+0200
TZOFFSETTO:+0300
TZNAME:EEST
DTSTART:20220327T010000
END:DAYLIGHT
BEGIN:STANDARD
TZOFFSETFROM:+0300
TZOFFSETTO:+0200
TZNAME:EET
DTSTART:20221030T010000
END:STANDARD
BEGIN:DAYLIGHT
TZOFFSETFROM:+0200
TZOFFSETTO:+0300
TZNAME:EEST
DTSTART:20230326T010000
END:DAYLIGHT
BEGIN:STANDARD
TZOFFSETFROM:+0300
TZOFFSETTO:+0200
TZNAME:EET
DTSTART:20231029T010000
END:STANDARD
END:VTIMEZONE
BEGIN:VTIMEZONE
TZID:Europe/Helsinki
BEGIN:DAYLIGHT
TZOFFSETFROM:+0200
TZOFFSETTO:+0300
TZNAME:EEST
DTSTART:20210328T010000
END:DAYLIGHT
BEGIN:STANDARD
TZOFFSETFROM:+0300
TZOFFSETTO:+0200
TZNAME:EET
DTSTART:20211031T010000
END:STANDARD
BEGIN:DAYLIGHT
TZOFFSETFROM:+0200
TZOFFSETTO:+0300
TZNAME:EEST
DTSTART:20220327T010000
END:DAYLIGHT
BEGIN:STANDARD
TZOFFSETFROM:+0300
TZOFFSETTO:+0200
TZNAME:EET
DTSTART:20221030T010000
END:STANDARD
BEGIN:DAYLIGHT
TZOFFSETFROM:+0200
TZOFFSETTO:+0300
TZNAME:EEST
DTSTART:20230326T010000
END:DAYLIGHT
BEGIN:STANDARD
TZOFFSETFROM:+0300
TZOFFSETTO:+0200
TZNAME:EET
DTSTART:20231029T010000
END:STANDARD
END:VTIMEZONE
BEGIN:VEVENT
DTSTART;TZID=UTC:20220922T180000
DTEND;TZID=UTC:20220922T200000
DTSTAMP:20260423T202411
CREATED:20220914T074543Z
LAST-MODIFIED:20220914T074543Z
UID:1529-1663869600-1663876800@visitkerkonkoski.fi
SUMMARY:Kerkonkosken yrittäjien Pisnesrehvit
DESCRIPTION:
URL:https://visitkerkonkoski.fi/ajankohtaista/kerkonkosken-yrittajien-pisnesrehvit/
LOCATION:Kylätalo Seurala\, Kerkontie 15\, Kerkonkoski\, 77930
ORGANIZER;CN="Kerkolle kyl%C3%A4%C3%A4n- hankety%C3%B6ryhm%C3%A4":MAILTO:kerkollekylaan@gmail.com
END:VEVENT
BEGIN:VEVENT
DTSTART;TZID=Europe/Helsinki:20220919T170000
DTEND;TZID=Europe/Helsinki:20220919T210000
DTSTAMP:20260423T202411
CREATED:20220916T083110Z
LAST-MODIFIED:20220916T091318Z
UID:1566-1663606800-1663621200@visitkerkonkoski.fi
SUMMARY:Peli-ilta Seuralassa
DESCRIPTION:Tule pelailemaan mukavassa seurassa!  Mukaan voit liittyä mihin aikaan tahansa klo 17-21 välisenä aikana. Voit tuoda omat pelit mukanasi tai pelailla Seuralasta löytyviä pelejä.
URL:https://visitkerkonkoski.fi/ajankohtaista/peli-ilta-seuralassa/
LOCATION:Kylätalo Seurala\, Kerkontie 15\, Kerkonkoski\, 77930
ORGANIZER;CN="Kerkonkosken Ketter%C3%A4":MAILTO:kerkonkoskenkettera@gmail.com
END:VEVENT
BEGIN:VEVENT
DTSTART;TZID=Europe/Helsinki:20220906T160000
DTEND;TZID=Europe/Helsinki:20221221T130000
DTSTAMP:20260423T202411
CREATED:20220914T073732Z
LAST-MODIFIED:20221111T132432Z
UID:1513-1662480000-1671627600@visitkerkonkoski.fi
SUMMARY:Taitava Taidepajat tiistaisin ja keskiviikkoisin
DESCRIPTION: Tiistaisin klo 16-20\, Keskiviikkoisin klo 10-13 \n\n \nVoit tulla paikalle non-stopina silloin kuin itsellesi parhaiten sopii: \n\nMaksuton\, kaikille kyläläisille sekä naapurikyläläisille avoin taidepaja\, jossa voi materiaalien puitteissa tehdä mitä vaan.\nMyös omia materiaaleja saa tuoda mukana. Voit tulla vaikka neulomaan hyvässä seurassa\, kahvikupposen ääressä. Materiaalimaksu on täysin vapaaehtoinen.  Lapset ovat tervetulleita aikuisen seurassa. Ohjaajana toimii Unna Paananen.\n\n  \n\n\nLämpimästi tervetuloa!
URL:https://visitkerkonkoski.fi/ajankohtaista/taitava-taidepajat/
LOCATION:Kylätalo Seurala\, Kerkontie 15\, Kerkonkoski\, 77930
ORGANIZER;CN="Taitava Kerkonkoski%2C Unna Paananen":MAILTO:taitavakerkonkoski@gmail.com
END:VEVENT
BEGIN:VEVENT
DTSTART;VALUE=DATE:20220825
DTEND;VALUE=DATE:20220901
DTSTAMP:20260423T202411
CREATED:20220704T161155Z
LAST-MODIFIED:20220823T070635Z
UID:393-1661385600-1661990399@visitkerkonkoski.fi
SUMMARY:Kerkonkosken Venetsialaisviikko 25.-31.8.2022
DESCRIPTION:Tule ihastumaan loppukesän iltahämärään valaistuun Kerkonkoskeen!\n\nVenetsialaisviikolla on luvassa valotaidetta\, mukavaa ohjelmaa lapsille ja aikuisille\, elävää musiikkia\, hyvää ruokaa ja juomaa. \nOhjelma: \n\n\n\n24.8. klo 13 alkaen. Tule tekemään yhteistyönä Venetsialaisiin valaistavia teoksia! Pajaan voi tulla milloin vain klo 13 – 20 välisenä aikana. Mitään erityisiä taitoja tai tarvikkeita et mukaasi tarvitse. Paja on maksuton. Ohjaajana toimii Unna Paananen. \n\n\n\n25.8. klo 18 viikko aukeaa valotaideteoksin\, joita on sijoiteltu ympäri kylää. Tutustu teoksiin omaan tahtiisi rauhassa käyskennellen! Teokset ovat esillä koko tapahtumaviikon ajan. \n\n\n\n26.8. klo 18.30 Valoa ja Varjoja- konsertti Wanhalla Myllyllä. Yhtyeen musiikki antaa jokaisen kuulijan uppoutua omaan maailmaansa sävyjen ja sävelten soidessa rikkaina ja herkkinä. Japanilainen sakuhachi-huilu\, suomalainen kantele ja tiibetiläiset äänimaljat muodostavat äänimaiseman ja sävyjen kirjon\, jota kuunnellessa voi antaa mielikuvien tulla ja mennä. Herkkuja konsertin päätteeksi tarjoilee Kerkonkosken Ketterä. Liput 20€. \nSitovat ilmoittautumiset viim. 24.8.p. 0407061117 tai sateenkaarenpuu@gmail.comLisätietoja Sateenkaarenpuu Luonto Lataamo FB tapahtumasta! \n\n\n\n26.-27.8. klo 18-20 Markkinameininkiä Seuralassa. Ketterän kahvio. Pöytävaraukset Ulla/044-5409684 (viestit & whatsapp tavoittaa parhaiten). \n\n\n\n27.8. VENETSIALAISILTAWanhan Myllyn ja Seuralan ympäristöKlo 18-20– Myttyhuutokauppa– Lapsille pomppulinna– Talutusratsastusta– Kahvila Saunatontun Lettukestit \n\n\nWanhalla Myllyllä | 20.00Duo Morton puoliakustisesti (Iisakki & Satu Marttinen) \n\n\nKerkonkosken Keitaalla21.00 Kokko22.00 Ninety Show esiintyy. Vapaa pääsy!24.00 Kerkonkosken kyläläiset järjestävät ilotulituksen.Wille paistelee huikopalaksi muikkuja! \n\n\n29.8.-31.8. Ruusun galleria ja työpajat avoinna klo 14-20Non Stop työpajatLapset 15€/aikuiset 30€Ennakkoilmoittautuminen suotavaa: 040 5056176 | Pirkko \n\n\n31.8. | 18.00 ->Peli-ilta Seuralassa\n\nHuom! Kyläkauppa Kosken Puotipiika on Venetsialaisviikolla auki pidennetysti: pe-la 26.-27.8 klo 9-20.\nOhjelma tarkentuu ja täydentyy tapahtuman lähetessä!
URL:https://visitkerkonkoski.fi/ajankohtaista/tapahtumat/
LOCATION:Kerkonkosken kylä\, Kerkonkoski\, 77930\, Suomi
ORGANIZER;CN="Kerkonkosken Ketter%C3%A4":MAILTO:kerkonkoskenkettera@gmail.com
END:VEVENT
END:VCALENDAR