BEGIN:VCALENDAR
VERSION:2.0
PRODID:-//Visit Kerkonkoski - ECPv6.15.12.2//NONSGML v1.0//EN
CALSCALE:GREGORIAN
METHOD:PUBLISH
X-ORIGINAL-URL:https://visitkerkonkoski.fi/en
X-WR-CALDESC:Events for Visit Kerkonkoski
REFRESH-INTERVAL;VALUE=DURATION:PT1H
X-Robots-Tag:noindex
X-PUBLISHED-TTL:PT1H
BEGIN:VTIMEZONE
TZID:Europe/Helsinki
BEGIN:DAYLIGHT
TZOFFSETFROM:+0200
TZOFFSETTO:+0300
TZNAME:EEST
DTSTART:20230326T010000
END:DAYLIGHT
BEGIN:STANDARD
TZOFFSETFROM:+0300
TZOFFSETTO:+0200
TZNAME:EET
DTSTART:20231029T010000
END:STANDARD
BEGIN:DAYLIGHT
TZOFFSETFROM:+0200
TZOFFSETTO:+0300
TZNAME:EEST
DTSTART:20240331T010000
END:DAYLIGHT
BEGIN:STANDARD
TZOFFSETFROM:+0300
TZOFFSETTO:+0200
TZNAME:EET
DTSTART:20241027T010000
END:STANDARD
BEGIN:DAYLIGHT
TZOFFSETFROM:+0200
TZOFFSETTO:+0300
TZNAME:EEST
DTSTART:20250330T010000
END:DAYLIGHT
BEGIN:STANDARD
TZOFFSETFROM:+0300
TZOFFSETTO:+0200
TZNAME:EET
DTSTART:20251026T010000
END:STANDARD
END:VTIMEZONE
BEGIN:VEVENT
DTSTART;TZID=Europe/Helsinki:20240205T130000
DTEND;TZID=Europe/Helsinki:20240527T140000
DTSTAMP:20260424T015156
CREATED:20240131T133830Z
LAST-MODIFIED:20240131T134210Z
UID:3279-1707138000-1716818400@visitkerkonkoski.fi
SUMMARY:Lasten nuokku
DESCRIPTION:Lasten nuokku goes Kerkonkoski.\nLasten nuokku goes Kerkonkoski maanantaina 5.2.\, 26.2.\, 25.3.\, 29.4. ja 27.5. klo 13-14 Kerkonjoen koululla.  \nJärjestäjä Rautalammin kunta ja nuorisotoimi. Ohjaaja Minna Vauhkonen.
URL:https://visitkerkonkoski.fi/en/ajankohtaista/lasten-nuokku/
LOCATION:Kerkonjoen koulu\, Vesannontie 1250\, Kerkonkoski
END:VEVENT
BEGIN:VEVENT
DTSTART;TZID=Europe/Helsinki:20240205T140000
DTEND;TZID=Europe/Helsinki:20240527T150000
DTSTAMP:20260424T015156
CREATED:20240131T134434Z
LAST-MODIFIED:20240131T134637Z
UID:3285-1707141600-1716822000@visitkerkonkoski.fi
SUMMARY:Seniorien rauhallinen liikunta
DESCRIPTION:Kaikille senioreille sopivaa\, rauhallista liikuntaa.\nMaanantaina 5.2.\, 26.2.\, 25.3.\, 29.4. ja 27.5. klo 13-14 Kerkonjoen koululla.  \nJärjestäjä Rautalammin kunta ja nuorisotoimi. Ohjaaja Minna Vauhkonen.
URL:https://visitkerkonkoski.fi/en/ajankohtaista/seniorien-rauhallinen-liikunta/
LOCATION:Kerkonjoen koulu\, Vesannontie 1250\, Kerkonkoski
END:VEVENT
BEGIN:VEVENT
DTSTART;TZID=Europe/Helsinki:20240526T150000
DTEND;TZID=Europe/Helsinki:20240526T170000
DTSTAMP:20260424T015156
CREATED:20240503T091109Z
LAST-MODIFIED:20240503T091442Z
UID:3604-1716735600-1716742800@visitkerkonkoski.fi
SUMMARY:Rakkauden siivin konsertti
DESCRIPTION:Rakkauden siivin -konsertti 26.5. klo 15 Seuralassa. Tamara Lundin ja Reija Taipaleen matkassa Äänekosken harmonikkaorkesteri.  Solisteina Rauni Parantainen\, Kati Somiska\, Marko Liimatainen\, Kari Heinonen. Mukana myös Rautalammin oma taiteilija Hannele Karjalainen.Liput 15€Kahvion järjestää Rautalammin Ukrainalaiset\n 
URL:https://visitkerkonkoski.fi/en/ajankohtaista/rakkauden-siivin-konsertti/
LOCATION:Kylätalo Seurala\, Kerkontie 15\, Kerkonkoski\, 77930
END:VEVENT
END:VCALENDAR