BEGIN:VCALENDAR
VERSION:2.0
PRODID:-//Visit Kerkonkoski - ECPv6.15.12.2//NONSGML v1.0//EN
CALSCALE:GREGORIAN
METHOD:PUBLISH
X-WR-CALNAME:Visit Kerkonkoski
X-ORIGINAL-URL:https://visitkerkonkoski.fi/en
X-WR-CALDESC:Events for Visit Kerkonkoski
REFRESH-INTERVAL;VALUE=DURATION:PT1H
X-Robots-Tag:noindex
X-PUBLISHED-TTL:PT1H
BEGIN:VTIMEZONE
TZID:Europe/Helsinki
BEGIN:DAYLIGHT
TZOFFSETFROM:+0200
TZOFFSETTO:+0300
TZNAME:EEST
DTSTART:20230326T010000
END:DAYLIGHT
BEGIN:STANDARD
TZOFFSETFROM:+0300
TZOFFSETTO:+0200
TZNAME:EET
DTSTART:20231029T010000
END:STANDARD
BEGIN:DAYLIGHT
TZOFFSETFROM:+0200
TZOFFSETTO:+0300
TZNAME:EEST
DTSTART:20240331T010000
END:DAYLIGHT
BEGIN:STANDARD
TZOFFSETFROM:+0300
TZOFFSETTO:+0200
TZNAME:EET
DTSTART:20241027T010000
END:STANDARD
BEGIN:DAYLIGHT
TZOFFSETFROM:+0200
TZOFFSETTO:+0300
TZNAME:EEST
DTSTART:20250330T010000
END:DAYLIGHT
BEGIN:STANDARD
TZOFFSETFROM:+0300
TZOFFSETTO:+0200
TZNAME:EET
DTSTART:20251026T010000
END:STANDARD
END:VTIMEZONE
BEGIN:VEVENT
DTSTART;TZID=Europe/Helsinki:20240603T110000
DTEND;TZID=Europe/Helsinki:20240811T200000
DTSTAMP:20260424T004341
CREATED:20240527T111637Z
LAST-MODIFIED:20240724T114322Z
UID:3720-1717412400-1723406400@visitkerkonkoski.fi
SUMMARY:Wanha Mylly avoinna
DESCRIPTION: \nWanha Mylly avoinna koko kesän\n \n\nMyllyyn pääset tutustumaan 3.6.-11.8.2024 klo 11-20.Poikkeuksena alla mainitut aikataulut. Huomioithan\, että kesän aikana saattaa tulla muita muutoksia aikatauluihin\, jotka ilmoitetaan tällä sivulla. \n 
URL:https://visitkerkonkoski.fi/en/ajankohtaista/wanha-mylly-avoinna-kesan-2024/
LOCATION:Wanha Mylly\, Kerkontie 1\, Kerkonjoensuu\, -- Select --\, 77930\, Suomi
ORGANIZER;CN="Kerkonkosken Ketter%C3%A4":MAILTO:kerkonkoskenkettera@gmail.com
END:VEVENT
BEGIN:VEVENT
DTSTART;TZID=Europe/Helsinki:20240615T120000
DTEND;TZID=Europe/Helsinki:20240615T140000
DTSTAMP:20260424T004341
CREATED:20240524T121802Z
LAST-MODIFIED:20240524T121802Z
UID:3656-1718452800-1718460000@visitkerkonkoski.fi
SUMMARY:Kyläkahvit 15.6.2024
DESCRIPTION:Tule Kylätalo Seuralaan kahvittelemaan ja kuulemaan tänä keväänä käynnistyneestä Matkaillen Kerkonkoskelle- hankkeesta. Kuulemme mielellämme kyläläisten ideoita ja ajatuksia liittyen Kerkonkosken matkailuun ja ulkoilureitistömahdollisuuksiin.   \nKetterän kahvio avoinna! \nHUOM! Samana päivänä klo 15.00 starttaa Kerkonkosken Saunamaraton.Ota pyyhe ja kylpytakki matkaan! 😉
URL:https://visitkerkonkoski.fi/en/ajankohtaista/kylakahvit-15-6-2024/
LOCATION:Kylätalo Seurala\, Kerkontie 15\, Kerkonkoski\, 77930
ORGANIZER;CN="Kerkonkosken Ketter%C3%A4":MAILTO:kerkonkoskenkettera@gmail.com
END:VEVENT
BEGIN:VEVENT
DTSTART;TZID=Europe/Helsinki:20240615T120000
DTEND;TZID=Europe/Helsinki:20240615T210000
DTSTAMP:20260424T004341
CREATED:20240412T084259Z
LAST-MODIFIED:20240614T081815Z
UID:3556-1718452800-1718485200@visitkerkonkoski.fi
SUMMARY:Saunamaraton 2024
DESCRIPTION:Alkanutta kesää juhlistetaan yhdessä löylytellen\, kun Kerkonkosken kyläläiset avaavat saunojaan innokkaiden testattavaksi! Ainutlaatuinen laivasauna tai perinteisen puukiukaan lempeä lämpö – maratonilla saat kokea jos jonkinlaiset löylyt. Ota ystäväsi mukaan ja kävele saunasta saunaan kylpytakki päällä läpi kesäisen kylän! \n\n\n\n\n\n\nTapahtuman ajatuksena on saunoa mahdollisimman monessa saunassa Kerkonkosken kylän ”ytimen” tuntumassa. Maratonille voit osallistua yksin tai joukkueena. Saunamaratonissa et juokse kilometrejä\, vaan rentoudut ja nautit erilaisten saunojen löylyistä ja maalaiskylän vieraanvaraisuudesta.  \nAikataulu: \nklo 14.00 kokoontuminen Kerkonkosken Keitaallaklo 20.00 paluu Keitaalle(Keitaan sauna ja palju lämpimänä klo 19-21) \nKatso tarkemmat ohjeet alla olevasta kuvasta! \n\n\n\n\n\n\n\n\n\n\n\nMaratonilla saunoja on kymmenen. Kaikkiin saunoihin pääset kulkemaan jalkaisin\, ja muutamaan saunaan on elämyksellinen lauttakyyti Kerkonkosken Satamasta. Tapahtuma on täynnä ja ilmoittautuminen on tämän vuoden osalta suljettu. \n\n\nPukukoodina on uikkarit ja voit kiertää erilaiset saunat vaikka sandaaleissa ja kylpytakissa käpöstellen valoisassa kesäillassa. \nTeemme näitä iloisia kylätapahtumia myös saadaksemme pienten yrittäjiemme kassaa kilahtelemaan.Teitä palvelevat lauantaina:\n– Kyläkauppa Kosken puotipiika klo 9-18. Myynnissä mm. saunaämpärit!– Ilta päättyy Kesäravintola Kerkonkosken Keitaalle\, josta saa seudun parasta pizzaa ja tuopin jos toisenkin! Keittiö avoinna 12-21.30\, baari 02 saakka.– Lettukahvila ja Relax– saunatuotteet myynnissä tapahtuman aikana Kerkonkosken Satamassa.– Wanhaan Myllyyn vapaa pääsy klo 20 saakka.\n\n  \nTapahtumassa on vapaaehtoinen pääsymaksu. Kertynyt summa jaetaan saunaisännille korvauksena polttopuista. Jos haluat osallistua\, niin varaathan käteistä mukaan. Kolehti Keitaalla. \nLämpimästi tervetuloa! \n \nTarvittaessa lisätietoja tapahtumasta saat hanketyöntekijä Johanna Koposelta p. 0400 376 585. Saunojen yhteyshenkilö Pekka Halttunen: 040 578 9726. \n 
URL:https://visitkerkonkoski.fi/en/ajankohtaista/saunamaraton-2024/
LOCATION:Kerkonkosken kylä\, Kerkonkoski\, 77930\, Suomi
END:VEVENT
END:VCALENDAR