BEGIN:VCALENDAR
VERSION:2.0
PRODID:-//Visit Kerkonkoski - ECPv6.15.12.2//NONSGML v1.0//EN
CALSCALE:GREGORIAN
METHOD:PUBLISH
X-WR-CALNAME:Visit Kerkonkoski
X-ORIGINAL-URL:https://visitkerkonkoski.fi/en
X-WR-CALDESC:Events for Visit Kerkonkoski
REFRESH-INTERVAL;VALUE=DURATION:PT1H
X-Robots-Tag:noindex
X-PUBLISHED-TTL:PT1H
BEGIN:VTIMEZONE
TZID:Europe/Helsinki
BEGIN:DAYLIGHT
TZOFFSETFROM:+0200
TZOFFSETTO:+0300
TZNAME:EEST
DTSTART:20230326T010000
END:DAYLIGHT
BEGIN:STANDARD
TZOFFSETFROM:+0300
TZOFFSETTO:+0200
TZNAME:EET
DTSTART:20231029T010000
END:STANDARD
BEGIN:DAYLIGHT
TZOFFSETFROM:+0200
TZOFFSETTO:+0300
TZNAME:EEST
DTSTART:20240331T010000
END:DAYLIGHT
BEGIN:STANDARD
TZOFFSETFROM:+0300
TZOFFSETTO:+0200
TZNAME:EET
DTSTART:20241027T010000
END:STANDARD
BEGIN:DAYLIGHT
TZOFFSETFROM:+0200
TZOFFSETTO:+0300
TZNAME:EEST
DTSTART:20250330T010000
END:DAYLIGHT
BEGIN:STANDARD
TZOFFSETFROM:+0300
TZOFFSETTO:+0200
TZNAME:EET
DTSTART:20251026T010000
END:STANDARD
END:VTIMEZONE
BEGIN:VEVENT
DTSTART;TZID=Europe/Helsinki:20240603T110000
DTEND;TZID=Europe/Helsinki:20240811T200000
DTSTAMP:20260423T220355
CREATED:20240527T111637Z
LAST-MODIFIED:20240724T114322Z
UID:3720-1717412400-1723406400@visitkerkonkoski.fi
SUMMARY:Wanha Mylly avoinna
DESCRIPTION: \nWanha Mylly avoinna koko kesän\n \n\nMyllyyn pääset tutustumaan 3.6.-11.8.2024 klo 11-20.Poikkeuksena alla mainitut aikataulut. Huomioithan\, että kesän aikana saattaa tulla muita muutoksia aikatauluihin\, jotka ilmoitetaan tällä sivulla. \n 
URL:https://visitkerkonkoski.fi/en/ajankohtaista/wanha-mylly-avoinna-kesan-2024/
LOCATION:Wanha Mylly\, Kerkontie 1\, Kerkonjoensuu\, -- Select --\, 77930\, Suomi
ORGANIZER;CN="Kerkonkosken Ketter%C3%A4":MAILTO:kerkonkoskenkettera@gmail.com
END:VEVENT
BEGIN:VEVENT
DTSTART;TZID=Europe/Helsinki:20240703T120000
DTEND;TZID=Europe/Helsinki:20240714T200000
DTSTAMP:20260423T220355
CREATED:20240427T075936Z
LAST-MODIFIED:20240612T093447Z
UID:3582-1720008000-1720987200@visitkerkonkoski.fi
SUMMARY:Pakohuonepeli: Menneisyyden vankina
DESCRIPTION:Pakohuonepeli: Menneisyyden vankina\nPakohuonepeli aukeaa Wanhalle Myllylle (Kerkontie 1) heinäkuussa kahdeksi ensimmäiseksi viikoksi. Varauskalenteri on nyt avoinna osoitteessa:kerkonkoskenkettera.johku.com \nOlette joutuneet menneisyyteen\, ennen ajanlaskun alkua\, jolloin Kerkonkosken kylä ei ole vielä edes syntynyt. Tehtäviä ratkaisemalla kuljette läpi Kerkonkosken kylän synnyn ja historian vaiheita kohti nykypäivää. Ehdittekö löytää tienne ulos vai loppuuko aika kesken ja jäätte Kerkonkosken historiaan menneisyyden vangiksi? \n\n\n\n\n\nPelaaminen: Pakeneminen tapahtuu arvoituksia ratkomalla ja tehtäviä suorittamalla. Pelissä on hämäräinen tunnelma eikä se sovi herkimmille. Pakohuonepeli perustuu Kerkonkosken historiaan. Pelin pelaaminen ei kuitenkaan vaadi etukäteistietoa vaan kaikki tarvittava tieto pelin läpäisyyn löytyy pelialueelta. Puhelimen käyttö pelin aikana on kiellettyä. \nHinta: 22€/ryhmäPeliaika: 45minVaikeustaso: Keskivaikea+ \n\n\n\n\nKulku pakohuonepeliin on Wanhan Myllyn (Kerkontie 1\, Kerkonkoski) yläkerran kautta portaita pitkin. Odota yläkerrassa pelinohjaajaa. Pelinohjaaja antaa ennen aloittamista ryhmällenne ohjeet ja vinkit pakenemista varten. Pelipaikalle on hyvä saapua viimeistään 5min ennen pelin alkamista\, näin peli pääsee alkamaan ajallaan. Huom! Pelin ollessa käynnissä emme suosittele\, että oleskelet myllyn lähettyvillä\, että et kuule muilta pelaajilta vinkkejä sillä huone ei ole äänieristetty. Et tarvitse peliin mukaan mitään. Puhelimen käyttö pelissä on kiellettyä. \n\n\n\n\nAlle 14-vuotiaat lapset vain täysi-ikäisen seurassa. Peli sopii perheen kanssa pelattavana myös lapsille. Peliä suositellaan pelattavaksi 2-5hlö ryhmissä.  \n\n\nPakohuonepelin suunnittelun ja toteutuksen rahoittaa OLVI-säätiö. Pakohuonepelin järjestäjä Kerkonkosken Ketterä. \n 
URL:https://visitkerkonkoski.fi/en/ajankohtaista/pakohuonepeli-menneisyyden-vankina/
LOCATION:Wanha Mylly\, Kerkontie 1\, Kerkonjoensuu\, -- Select --\, 77930\, Suomi
ORGANIZER;CN="Kerkonkosken Ketter%C3%A4":MAILTO:kerkonkoskenkettera@gmail.com
END:VEVENT
END:VCALENDAR