BEGIN:VCALENDAR
VERSION:2.0
PRODID:-//Visit Kerkonkoski - ECPv6.15.12.2//NONSGML v1.0//EN
CALSCALE:GREGORIAN
METHOD:PUBLISH
X-ORIGINAL-URL:https://visitkerkonkoski.fi/en
X-WR-CALDESC:Events for Visit Kerkonkoski
REFRESH-INTERVAL;VALUE=DURATION:PT1H
X-Robots-Tag:noindex
X-PUBLISHED-TTL:PT1H
BEGIN:VTIMEZONE
TZID:Europe/Helsinki
BEGIN:DAYLIGHT
TZOFFSETFROM:+0200
TZOFFSETTO:+0300
TZNAME:EEST
DTSTART:20230326T010000
END:DAYLIGHT
BEGIN:STANDARD
TZOFFSETFROM:+0300
TZOFFSETTO:+0200
TZNAME:EET
DTSTART:20231029T010000
END:STANDARD
BEGIN:DAYLIGHT
TZOFFSETFROM:+0200
TZOFFSETTO:+0300
TZNAME:EEST
DTSTART:20240331T010000
END:DAYLIGHT
BEGIN:STANDARD
TZOFFSETFROM:+0300
TZOFFSETTO:+0200
TZNAME:EET
DTSTART:20241027T010000
END:STANDARD
BEGIN:DAYLIGHT
TZOFFSETFROM:+0200
TZOFFSETTO:+0300
TZNAME:EEST
DTSTART:20250330T010000
END:DAYLIGHT
BEGIN:STANDARD
TZOFFSETFROM:+0300
TZOFFSETTO:+0200
TZNAME:EET
DTSTART:20251026T010000
END:STANDARD
END:VTIMEZONE
BEGIN:VEVENT
DTSTART;TZID=Europe/Helsinki:20240830T180000
DTEND;TZID=Europe/Helsinki:20240901T233000
DTSTAMP:20260423T193153
CREATED:20240808T085635Z
LAST-MODIFIED:20240827T131710Z
UID:4002-1725040800-1725233400@visitkerkonkoski.fi
SUMMARY:Kerkonkosken Venetsialaiset
DESCRIPTION:Kerkonkosken Venetsialaisia juhlitaan 30.8.-1.9.2024! \n\n\nHämärtyvään elokuun loppuun tuodaan taianomaista pilkettä\, kun valotaidetta ripotellaan Kerkonkoskelle uusin teoksin. Ohjelmaa on luvassa koko perheelle ja lauantaina ilta huipentuu Kerkonkosken Keitaan taikomiin iltabileisiin.\nAikataulun näet yllä. Alla lisätietoa ohjelmistosta: \nVALAISTUS \nKerkonkosken kuohujen näyttävästä valaistuksesta vastaa rautalampilainen Studio Käpynä.  \nValaistuksia ja valoteoksia on valmistettu tänä vuonna yhteisessä talkoopäivässä. Teoksissa on hyödynnetty -23 Taitava Kerkonkoski -pajoissa valmistettuja töitä. Valotaide sijoittuu tänä vuonna Seuralan\, myllyn ja kyläkaupan alueelle. \nValot loistavat koko viikonlopun 30.8.-1.9.2024. \nKlo 21 Kerkonkosken Keitaalla syttyy kokko. Huomioithan\, että klo 21 alkaen Kerkonkosken Keitaan terassialue on K-18 ja kielletty lemmikkieläimiltä. Keitaan sisäänpääsymaksu on klo 21 alkaen 12€. \nHeti Kehän keikan jälkeen taivaan täyttää upea kyläläisten järjestämä ilotulitus. Ilotulituksen keräykseen voi käydä osallistumassa Keitaalla tai kyläkaupalla. \n  \nMUSIIKKI \nPerjantaina tunnelmaisessa Wanhassa Myllyssä Aki Virran säestyksellä lauletaan tuttuja yhteislauluja. Tapahtumassa on vapaaehtoinen pääsymaksu Rautalammin ukrainalaisten lapsiperheiden hyväksi. \nLauantaina Kerkonkosken Keitaalla heti kokon sytyttämisen jälkeen alkaa tunnelmaa nostaa kattoo rautalampilainen Dj Lamppv. Klo 23 lauteille astelee illan pääesiintyjä Kehä. Kehä soittaa kitaravetoista suomipoppia\, jonka spotifyssa kuunnelluimpia kappaleita ovat Rakkaus ennen muita sekä Setämies. Loppuillan illan parhaista bailuista vastaa Dj Lamppv. Keitaalle on klo 21 alkaen liput 12€/hlö ja tapahtuma on K-18. Myös lemmikkieläimien tuonti on kiellettyjä klo 21 jälkeen terassialueelle.  \n  \nKOMEDIAILTA \nKerkonkosken Ketterä järjestää Venetsialaisviikonlopulle vatsalihaksille ja suupielille jumppaa\, kun hulvattomat Stand Up – koomikot Riku Suokas ja Tommi Mujunen astuvat Seuralan estradilleTapahtumassa on väliaika ja Ketterän kahvio palvelee. \n Riku Suokas on stand upin uranuurtaja\, joka on ollut perustamassa Suomen ensimmäistä stand up -klubia ja Pohjoismaiden suurinta stand up -festareita: Tomaatteja\, Tomaatteja! Komiikan lisäksi hän on myös teatterinjohtaja ja toiminut sekä näyttelijänä että käsikirjoittajana erilaisissa tv-tuotannoissa. Viimeisimpiin töihin kuuluu tv-sarja Koskisen käsikirjoittaminen\, josta on juuri ruudussa alkanut kausi 4. \nVuoden 2004 vuoden stand up -tulokkkaana palkittu Tommi Mujunen on Suokkaan tavoin pitkänlinjan koomikko. Hän on toiminut useissa kotimaisissa tv-tuotannoissa niin koomikkona kuin näyttelijänäkin. Hänet on nähty mm. Nelosen Stand up!\, Tuubi ja Cyclomania ohjelmissa. Mujusta on kuvailtu Suomikomiikan shamppanjaksi: kesäisen kevyt tunnelman nostaja ja juhlien elävöittäjä\, joka kuplii ja kuohuu\, pirkskahtelee ja piristää.  \nLiput 17€\, eläkeläinen 15€\, alle 18v. 9€. Osta liput ennakkoon!Lipun myynti netissä päättyy perjantai-iltana 30.8. Lipunmyynti aukeaa lauantaina 31.8. klo 17.30. \nOvet aukeavat 18.30. \nTapahtumaa tukemassa MTK-Rautalampi\, POP-pankki Konnevesi ja Hanka-Taimen Oy \n \nLASTEN VENETSIALAISET \nLauantaina klo 16-17.30 Wanhalla Myllyllä vietetään lasten Venetsialaisia. Ketterän kahvio palvelee samalla\, kun lapset pääsevät hyppimään pomppulinnaan ja nauttimaan piknikin tarjonnasta. Ketterän kahvion valikoimista löydät myös hattarat! \nWanhalla Myllyllä puolestaan klo 16 alkaa Myllyopas Saara Suurenmoisen satuseikkailu. Myllyopas Saara Suurenmoisella on pulma\, jonka ratkaisemiseen hän tarvitsee apua. Helpot\, yhdessä ratkaistavat tehtävät sadun lomassa sopivat kaikille sisältäen arvoituksia\, tuttuja lauluja\, liikkeitä sekä osallistavat lapset riemukkaalla tavalla osaksi satua. Satutuokio ja sen sisältämät tehtävät mukautuvat ryhmälle sopivaksi mm. osallistujien ikä ja muut erityispiirteet huomioiden. Satuseikkailun suunnittelusta ja toteutuksesta vastaa yhteisötaiteilija Kati Ahmaharju. Satuseikkailu alkaa ja loppuu myllyn yläkerrassa\, mutta seikkailussa kuljetaan myös myllyn alakerrassa.Satuseikkailu sopii kaikenikäisille. \nLasten tapahtumassa on vapaaehtoinen pääsymaksu. \nLasten tapahtumaa on tukemassa Rautalammin kunta ja LähiTapiola Savon Nuori Savo. \n  \nVATSAN TÄYDELTÄ HYVVÄÄ! \n  \nKerkonkosken Ketterän kahvio palvelee Wanhalla Myllyllä lauantaina 30.8. klo 16-17.30. Tämän jälkeen kahvio siirtyy Seuralalle ja aukeaa viimeistään klo 18.30 palvellen Komediaillan ajan. Kahviosta löydät myynnistä myös hattarat! \nLasten tapahtumassa lauantaina klo 16-17.30  Wanhalla Myllyllä on lasten oma piknik. \nKesäravintola Kerkonkosken Keitaan keittiö on avoinna perjantaina 15-21.30 lauantaina klo 11- 21.30sunnuntaina klo 11-19.30Keitaalla herkuttelet pizzoilla\, salaateilla ja nachoilla. Lauantaina oman kylän kalastaja Wille paistaa kielen mukanaan vieviä muikkuja iltakahdeksasta pikkutunneille saakka. Keitaalla on anniskeluoikeudet ja Venetsialaisia juhlitaan 02 saakka! \nKyläkaupan kahviossa pääset nautiskelemaan kahvit ja kahvileivät vaikkapa lehtiä lukien. \nKAUPPA \nKyläkauppa Kosken Puotipiika palvelee Venetsialaisissa pidennetyin aukioloin. Pe-la klo 9-18 ja su klo 9-15. Kyläkaupan valikoimista löydät myös paikallisten käsitöitä ja pienen kahvilan. \nMAJOITUS \nTäältä löydät muutamia kylän majoituskohteita! Kysythän meiltä\, mikäli sopivaa ei löytynyt! \nPYSÄKÖINTI \nPyydämme tapahtumavierailijoita jättämään autot koulun pihaan\, sillä pieni kylämme voi ruuhkautua varsinkin hämärän tullen. Myös Seuralan kentälle voi pysäköidä\, mutta kentän reunalla oleville matkaparkin paikoituisalueille on säilyttävä vapaakulku läpi viikonlopun. \n \nTAKSIT \nTaksi Jämsinen p. 045 117 3330A.Suurosen auto p. 0400 271 579 \nYHTEYSTIEDOT \nKylätalo Seurala: Kerkontie 15\, 77930 KerkonjoensuuWanha Mylly: Kerkontie 1\, 77930 KerkonjoensuuKerkonkosken Keidas: Repolantie 11\, 77930 Kerkonjoensuu  \n \n\n\nOta tapahtuman seurantaan Facebookissa ja lisää täppä omaan kalenteriisi. Tätä juhlaa ei kannata missata! Lämpimästi tervetuloa!\n \n \nKerkonkosken Venetsialaiset järjestää Kerkonkosken Ketterä ry\, Kerkonkosken Keidas ja yhteistyötahot.
URL:https://visitkerkonkoski.fi/en/ajankohtaista/kerkonkosken-venetsialaiset/
LOCATION:Kerkonkosken kylä\, Kerkonkoski\, 77930\, Suomi
ORGANIZER;CN="Kerkonkosken Ketter%C3%A4":MAILTO:kerkonkoskenkettera@gmail.com
END:VEVENT
BEGIN:VEVENT
DTSTART;TZID=Europe/Helsinki:20240831T190000
DTEND;TZID=Europe/Helsinki:20240831T210000
DTSTAMP:20260423T193153
CREATED:20240605T061902Z
LAST-MODIFIED:20240827T131140Z
UID:3741-1725130800-1725138000@visitkerkonkoski.fi
SUMMARY:Komediailta
DESCRIPTION:Komediailta Seuralassa lauantaina 31.8. klo 19.\nEsiintyjinä Riku Suokas ja Tommi Mujunen.Tapahtumassa Kerkonkosken Ketterän kahvio.Tapahtuman kesto n. 1\,5h sisältäen väliajan. \nTapahtuman järjestää Kerkonkosken Ketterä.Tapahtuman tuotto käytetään Kerkonkosken nuorten hyväksi. \nLipunmyynti netissä päättyy perjantai-iltana 30.8.Lipunmyynti Seuralalla aukeaa lauantaina 31.8. klo 17.30. \nOvet aukeaa klo 18.30. \nLiput:Aikuiset 17€Eläkeläiset 15€Alle 18v. 9€Liput myynnissä: kerkonkoskenkettera.johku.com  \nHuom! Vinkki ennakkolippujen ostoon netistä: Lisää ostoskoriin haluamasi määrä lippuja. Ostoskorissa klikkaa lippujen hintaa\, niin pääset vaihtamaan liput haluamiisi alennushintaisiin lippuihin. Huomioithan\, että samalla tilauksella ostetut liput ovat yhden QR-koodin takana. Suosittelemme ostamaan liput erikseen\, jos ette tule paikalle yhtä aikaa. \nTapahtumaa tukemassa MTK-Rautalampi\, POP-pankki Konnevesi ja Hanka-Taimen Oy
URL:https://visitkerkonkoski.fi/en/ajankohtaista/komediailta-2/
LOCATION:Kylätalo Seurala\, Kerkontie 15\, Kerkonkoski\, 77930
ORGANIZER;CN="Kerkonkosken Ketter%C3%A4":MAILTO:kerkonkoskenkettera@gmail.com
END:VEVENT
BEGIN:VEVENT
DTSTART;TZID=Europe/Helsinki:20240831T220000
DTEND;TZID=Europe/Helsinki:20240831T233000
DTSTAMP:20260423T193153
CREATED:20240605T061246Z
LAST-MODIFIED:20240605T061530Z
UID:3734-1725141600-1725147000@visitkerkonkoski.fi
SUMMARY:Kehä Kerkonkosken Keitaalla
DESCRIPTION: Kehä on Laitilassa perustettu pitkän linjan yhtye\, joka on elonsa varrella kehittynyt perinteisemmästä suomirockista kohti kitaravetoista poppia\, ja kasvattanut ympärilleen uskollisen sekä alati kasvavan fanikunnan. \nViime vuonna julkaistulla Setämies-singlellään ensimmäistä kertaa uransa aikana Suomen Spotifyn top-200 listalle nousseella yhtyeellä on ollut takanaan hyvä vuosi musiikillisesti\, kun kesäkuussa -23 julkaistu Punaviinipuu-sinkku nousi valtakunnalliseen soittoon Yleisradiolla. Aikaisemmin julkaistu Rakkaus ennen muita -single ylitti kesäkuussa 2023 kultalevyrajan. Kehän tuotanto on kerännyt suoratoistopalveluissa yhteensä jo yli seitsemän miljoonaa kuuntelukertaa.\nEemeli Turpeinen – lauluJuha Isotalo – kitaraJuho Laihia – kitaraRami Kettunen – rummutJaakko Kentta – basso\nhttps://youtu.be/VLhZxwdbpbA?si=3B9WgJV3FjAUBf93\nKehä Kerkonkosken Keitaalla31.8.2024 klo 22Tapahtuma K-18Liput myyntiin elokuussa!
URL:https://visitkerkonkoski.fi/en/ajankohtaista/keha-kerkonkosken-keitaalla/
LOCATION:Kerkonkosken Keidas\, Repolantie 11\, Kerkonjoensuu\, -- Select --\, 77930\, Suomi
END:VEVENT
END:VCALENDAR